BEGIN:VCALENDAR
VERSION:2.0
PRODID:-//Feldschützen Dintikon - ECPv6.15.20//NONSGML v1.0//EN
CALSCALE:GREGORIAN
METHOD:PUBLISH
X-ORIGINAL-URL:https://feldschuetzen-dintikon.ch
X-WR-CALDESC:Veranstaltungen für Feldschützen Dintikon
REFRESH-INTERVAL;VALUE=DURATION:PT1H
X-Robots-Tag:noindex
X-PUBLISHED-TTL:PT1H
BEGIN:VTIMEZONE
TZID:Europe/Zurich
BEGIN:DAYLIGHT
TZOFFSETFROM:+0100
TZOFFSETTO:+0200
TZNAME:CEST
DTSTART:20250330T010000
END:DAYLIGHT
BEGIN:STANDARD
TZOFFSETFROM:+0200
TZOFFSETTO:+0100
TZNAME:CET
DTSTART:20251026T010000
END:STANDARD
BEGIN:DAYLIGHT
TZOFFSETFROM:+0100
TZOFFSETTO:+0200
TZNAME:CEST
DTSTART:20260329T010000
END:DAYLIGHT
BEGIN:STANDARD
TZOFFSETFROM:+0200
TZOFFSETTO:+0100
TZNAME:CET
DTSTART:20261025T010000
END:STANDARD
BEGIN:DAYLIGHT
TZOFFSETFROM:+0100
TZOFFSETTO:+0200
TZNAME:CEST
DTSTART:20270328T010000
END:DAYLIGHT
BEGIN:STANDARD
TZOFFSETFROM:+0200
TZOFFSETTO:+0100
TZNAME:CET
DTSTART:20271031T010000
END:STANDARD
END:VTIMEZONE
BEGIN:VEVENT
DTSTART;TZID=Europe/Zurich:20260702T183000
DTEND;TZID=Europe/Zurich:20260702T193000
DTSTAMP:20260421T211753
CREATED:20260305T165916Z
LAST-MODIFIED:20260305T165916Z
UID:916-1783017000-1783020600@feldschuetzen-dintikon.ch
SUMMARY:Training
DESCRIPTION:
URL:https://feldschuetzen-dintikon.ch/termin/training-7/
CATEGORIES:Jahresprogramm Feldschützen
END:VEVENT
BEGIN:VEVENT
DTSTART;TZID=Europe/Zurich:20260704T130000
DTEND;TZID=Europe/Zurich:20260704T160000
DTSTAMP:20260421T211753
CREATED:20260305T172333Z
LAST-MODIFIED:20260305T172339Z
UID:966-1783170000-1783180800@feldschuetzen-dintikon.ch
SUMMARY:Cup 2026
DESCRIPTION:
URL:https://feldschuetzen-dintikon.ch/termin/cup-2026/
CATEGORIES:Jahresprogramm Feldschützen
END:VEVENT
BEGIN:VEVENT
DTSTART;VALUE=DATE:20260725
DTEND;VALUE=DATE:20260726
DTSTAMP:20260421T211753
CREATED:20260418T151709Z
LAST-MODIFIED:20260418T151709Z
UID:1391-1784937600-1785023999@feldschuetzen-dintikon.ch
SUMMARY:Vermietet
DESCRIPTION:
URL:https://feldschuetzen-dintikon.ch/termin/vermietet-3/
CATEGORIES:Schützenstube - Vermietung
END:VEVENT
BEGIN:VEVENT
DTSTART;VALUE=DATE:20260807
DTEND;VALUE=DATE:20260809
DTSTAMP:20260421T211753
CREATED:20260305T172610Z
LAST-MODIFIED:20260305T172610Z
UID:968-1786060800-1786233599@feldschuetzen-dintikon.ch
SUMMARY:Hilfikon Eröffnung Rietenberg
DESCRIPTION:Gemäss spez. Programm
URL:https://feldschuetzen-dintikon.ch/termin/hilfikon-eroeffnung-rietenberg/
CATEGORIES:Jahresprogramm Feldschützen
END:VEVENT
BEGIN:VEVENT
DTSTART;VALUE=DATE:20260807
DTEND;VALUE=DATE:20260810
DTSTAMP:20260421T211753
CREATED:20260305T172727Z
LAST-MODIFIED:20260305T172727Z
UID:974-1786060800-1786319999@feldschuetzen-dintikon.ch
SUMMARY:Oberkulm Rotkornschiessen
DESCRIPTION:Gemäss spez. Programm
URL:https://feldschuetzen-dintikon.ch/termin/oberkulm-rotkornschiessen/
CATEGORIES:Jahresprogramm Feldschützen
END:VEVENT
BEGIN:VEVENT
DTSTART;TZID=Europe/Zurich:20260813T183000
DTEND;TZID=Europe/Zurich:20260813T193000
DTSTAMP:20260421T211753
CREATED:20260305T165918Z
LAST-MODIFIED:20260305T165918Z
UID:917-1786645800-1786649400@feldschuetzen-dintikon.ch
SUMMARY:Training
DESCRIPTION:
URL:https://feldschuetzen-dintikon.ch/termin/training-8/
CATEGORIES:Jahresprogramm Feldschützen
END:VEVENT
BEGIN:VEVENT
DTSTART;VALUE=DATE:20260814
DTEND;VALUE=DATE:20260815
DTSTAMP:20260421T211753
CREATED:20260305T172639Z
LAST-MODIFIED:20260305T172639Z
UID:971-1786665600-1786751999@feldschuetzen-dintikon.ch
SUMMARY:Hilfikon Eröffnung Rietenberg
DESCRIPTION:Gemäss spez. Programm
URL:https://feldschuetzen-dintikon.ch/termin/hilfikon-eroeffnung-rietenberg-2/
CATEGORIES:Jahresprogramm Feldschützen
END:VEVENT
BEGIN:VEVENT
DTSTART;VALUE=DATE:20260814
DTEND;VALUE=DATE:20260816
DTSTAMP:20260421T211753
CREATED:20260305T172758Z
LAST-MODIFIED:20260305T172758Z
UID:976-1786665600-1786838399@feldschuetzen-dintikon.ch
SUMMARY:Oberkulm Rotkornschiessen
DESCRIPTION:Gemäss spez. Programm
URL:https://feldschuetzen-dintikon.ch/termin/oberkulm-rotkornschiessen-2/
CATEGORIES:Jahresprogramm Feldschützen
END:VEVENT
BEGIN:VEVENT
DTSTART;VALUE=DATE:20260814
DTEND;VALUE=DATE:20260816
DTSTAMP:20260421T211753
CREATED:20260305T172836Z
LAST-MODIFIED:20260305T172836Z
UID:978-1786665600-1786838399@feldschuetzen-dintikon.ch
SUMMARY:Holderbank Bezirkverband Lenzburg
DESCRIPTION:Gemäss spez. Programm
URL:https://feldschuetzen-dintikon.ch/termin/holderbank-bezirkverband-lenzburg/
CATEGORIES:Jahresprogramm Feldschützen
END:VEVENT
BEGIN:VEVENT
DTSTART;VALUE=DATE:20260815
DTEND;VALUE=DATE:20260816
DTSTAMP:20260421T211753
CREATED:20260414T070054Z
LAST-MODIFIED:20260414T070827Z
UID:1389-1786752000-1786838399@feldschuetzen-dintikon.ch
SUMMARY:Vermietet
DESCRIPTION:
URL:https://feldschuetzen-dintikon.ch/termin/vermietet-13/
CATEGORIES:Schützenstube - Vermietung
END:VEVENT
BEGIN:VEVENT
DTSTART;VALUE=DATE:20260816
DTEND;VALUE=DATE:20260817
DTSTAMP:20260421T211753
CREATED:20260305T172652Z
LAST-MODIFIED:20260305T172652Z
UID:970-1786838400-1786924799@feldschuetzen-dintikon.ch
SUMMARY:Hilfikon Eröffnung Rietenberg
DESCRIPTION:Gemäss spez. Programm
URL:https://feldschuetzen-dintikon.ch/termin/hilfikon-eroeffnung-rietenberg-3/
CATEGORIES:Jahresprogramm Feldschützen
END:VEVENT
BEGIN:VEVENT
DTSTART;VALUE=DATE:20260819
DTEND;VALUE=DATE:20260820
DTSTAMP:20260421T211753
CREATED:20260322T141118Z
LAST-MODIFIED:20260326T112811Z
UID:1186-1787097600-1787183999@feldschuetzen-dintikon.ch
SUMMARY:Vermietet
DESCRIPTION:
URL:https://feldschuetzen-dintikon.ch/termin/vermietet-7/
CATEGORIES:Schützenstube - Vermietung
END:VEVENT
BEGIN:VEVENT
DTSTART;TZID=Europe/Zurich:20260819T181500
DTEND;TZID=Europe/Zurich:20260819T201500
DTSTAMP:20260421T211753
CREATED:20260305T143245Z
LAST-MODIFIED:20260305T143245Z
UID:817-1787163300-1787170500@feldschuetzen-dintikon.ch
SUMMARY:10. Schiesstag
DESCRIPTION:
URL:https://feldschuetzen-dintikon.ch/termin/10-schiesstag/
CATEGORIES:Jungschützen
END:VEVENT
BEGIN:VEVENT
DTSTART;VALUE=DATE:20260821
DTEND;VALUE=DATE:20260823
DTSTAMP:20260421T211753
CREATED:20260305T172850Z
LAST-MODIFIED:20260305T172850Z
UID:980-1787270400-1787443199@feldschuetzen-dintikon.ch
SUMMARY:Holderbank Bezirkverband Lenzburg
DESCRIPTION:Gemäss spez. Programm
URL:https://feldschuetzen-dintikon.ch/termin/holderbank-bezirkverband-lenzburg-2/
CATEGORIES:Jahresprogramm Feldschützen
END:VEVENT
BEGIN:VEVENT
DTSTART;VALUE=DATE:20260821
DTEND;VALUE=DATE:20260823
DTSTAMP:20260421T211753
CREATED:20260305T172923Z
LAST-MODIFIED:20260305T172923Z
UID:982-1787270400-1787443199@feldschuetzen-dintikon.ch
SUMMARY:Thalheim Ruine Schenkenbergschiessen
DESCRIPTION:Gemäss spez. Programm
URL:https://feldschuetzen-dintikon.ch/termin/thalheim-ruine-schenkenbergschiessen/
CATEGORIES:Jahresprogramm Feldschützen
END:VEVENT
BEGIN:VEVENT
DTSTART;VALUE=DATE:20260821
DTEND;VALUE=DATE:20260823
DTSTAMP:20260421T211753
CREATED:20260305T173021Z
LAST-MODIFIED:20260305T173021Z
UID:984-1787270400-1787443199@feldschuetzen-dintikon.ch
SUMMARY:Auenstein Gisliflue-Challenge
DESCRIPTION:Gemäss spez. Programm
URL:https://feldschuetzen-dintikon.ch/termin/auenstein-gisliflue-challenge/
CATEGORIES:Jahresprogramm Feldschützen
END:VEVENT
BEGIN:VEVENT
DTSTART;VALUE=DATE:20260822
DTEND;VALUE=DATE:20260823
DTSTAMP:20260421T211753
CREATED:20260305T144536Z
LAST-MODIFIED:20260305T144536Z
UID:799-1787356800-1787443199@feldschuetzen-dintikon.ch
SUMMARY:Kant. Gruppenfinal Bezirk . . . (nur Qualifizierte)
DESCRIPTION:
URL:https://feldschuetzen-dintikon.ch/termin/kant-gruppenfinal-bezirk-nur-qualifizierte/
CATEGORIES:Jungschützen
END:VEVENT
BEGIN:VEVENT
DTSTART;TZID=Europe/Zurich:20260826T181500
DTEND;TZID=Europe/Zurich:20260826T201500
DTSTAMP:20260421T211753
CREATED:20260305T143247Z
LAST-MODIFIED:20260305T143247Z
UID:816-1787768100-1787775300@feldschuetzen-dintikon.ch
SUMMARY:11. Schiesstag
DESCRIPTION:
URL:https://feldschuetzen-dintikon.ch/termin/11-schiesstag/
CATEGORIES:Jungschützen
END:VEVENT
BEGIN:VEVENT
DTSTART;TZID=Europe/Zurich:20260827T183000
DTEND;TZID=Europe/Zurich:20260827T193000
DTSTAMP:20260421T211753
CREATED:20260305T165920Z
LAST-MODIFIED:20260305T165920Z
UID:918-1787855400-1787859000@feldschuetzen-dintikon.ch
SUMMARY:Training
DESCRIPTION:
URL:https://feldschuetzen-dintikon.ch/termin/training-9/
CATEGORIES:Jahresprogramm Feldschützen
END:VEVENT
BEGIN:VEVENT
DTSTART;VALUE=DATE:20260828
DTEND;VALUE=DATE:20260830
DTSTAMP:20260421T211753
CREATED:20260305T173043Z
LAST-MODIFIED:20260305T173043Z
UID:986-1787875200-1788047999@feldschuetzen-dintikon.ch
SUMMARY:Auenstein Gisliflue-Challenge
DESCRIPTION:Gemäss spez. Programm
URL:https://feldschuetzen-dintikon.ch/termin/auenstein-gisliflue-challenge-2/
CATEGORIES:Jahresprogramm Feldschützen
END:VEVENT
BEGIN:VEVENT
DTSTART;VALUE=DATE:20260828
DTEND;VALUE=DATE:20260830
DTSTAMP:20260421T211753
CREATED:20260305T173117Z
LAST-MODIFIED:20260305T173117Z
UID:988-1787875200-1788047999@feldschuetzen-dintikon.ch
SUMMARY:Bettwil Bezirkverband Muri
DESCRIPTION:Gemäss spez. Programm
URL:https://feldschuetzen-dintikon.ch/termin/bettwil-bezirkverband-muri/
CATEGORIES:Jahresprogramm Feldschützen
END:VEVENT
BEGIN:VEVENT
DTSTART;VALUE=DATE:20260829
DTEND;VALUE=DATE:20260831
DTSTAMP:20260421T211753
CREATED:20260306T070707Z
LAST-MODIFIED:20260306T070707Z
UID:1035-1787961600-1788134399@feldschuetzen-dintikon.ch
SUMMARY:Interne Nutzung
DESCRIPTION:
URL:https://feldschuetzen-dintikon.ch/termin/interne-nutzung-8/
CATEGORIES:Schützenstube - Interne Anlässe
END:VEVENT
BEGIN:VEVENT
DTSTART;TZID=Europe/Zurich:20260829T130000
DTEND;TZID=Europe/Zurich:20260829T160000
DTSTAMP:20260421T211753
CREATED:20260305T171458Z
LAST-MODIFIED:20260305T171458Z
UID:946-1788008400-1788019200@feldschuetzen-dintikon.ch
SUMMARY:Obligatorisch
DESCRIPTION:
URL:https://feldschuetzen-dintikon.ch/termin/obligatorisch-3/
CATEGORIES:Jahresprogramm Feldschützen
END:VEVENT
BEGIN:VEVENT
DTSTART;TZID=Europe/Zurich:20260903T183000
DTEND;TZID=Europe/Zurich:20260903T193000
DTSTAMP:20260421T211753
CREATED:20260305T165922Z
LAST-MODIFIED:20260305T165922Z
UID:919-1788460200-1788463800@feldschuetzen-dintikon.ch
SUMMARY:Training
DESCRIPTION:
URL:https://feldschuetzen-dintikon.ch/termin/training-10/
CATEGORIES:Jahresprogramm Feldschützen
END:VEVENT
BEGIN:VEVENT
DTSTART;VALUE=DATE:20260904
DTEND;VALUE=DATE:20260906
DTSTAMP:20260421T211753
CREATED:20260305T173138Z
LAST-MODIFIED:20260305T173138Z
UID:990-1788480000-1788652799@feldschuetzen-dintikon.ch
SUMMARY:Bettwil Bezirkverband Muri
DESCRIPTION:Gemäss spez. Programm
URL:https://feldschuetzen-dintikon.ch/termin/bettwil-bezirkverband-muri-2/
CATEGORIES:Jahresprogramm Feldschützen
END:VEVENT
BEGIN:VEVENT
DTSTART;VALUE=DATE:20260905
DTEND;VALUE=DATE:20260906
DTSTAMP:20260421T211753
CREATED:20260306T125640Z
LAST-MODIFIED:20260326T114713Z
UID:1051-1788566400-1788652799@feldschuetzen-dintikon.ch
SUMMARY:Vermietet
DESCRIPTION:
URL:https://feldschuetzen-dintikon.ch/termin/vermietet-4/
CATEGORIES:Schützenstube - Vermietung
END:VEVENT
BEGIN:VEVENT
DTSTART;VALUE=DATE:20260905
DTEND;VALUE=DATE:20260907
DTSTAMP:20260421T211753
CREATED:20260305T173219Z
LAST-MODIFIED:20260305T173219Z
UID:992-1788566400-1788739199@feldschuetzen-dintikon.ch
SUMMARY:Thalheim Ruine Schenkenbergschiessen
DESCRIPTION:Gemäss spez. Programm
URL:https://feldschuetzen-dintikon.ch/termin/thalheim-ruine-schenkenbergschiessen-2/
CATEGORIES:Jahresprogramm Feldschützen
END:VEVENT
BEGIN:VEVENT
DTSTART;TZID=Europe/Zurich:20260905T130000
DTEND;TZID=Europe/Zurich:20260905T173000
DTSTAMP:20260421T211753
CREATED:20260305T144523Z
LAST-MODIFIED:20260305T144523Z
UID:800-1788613200-1788629400@feldschuetzen-dintikon.ch
SUMMARY:JJ & JS - Cup Hendschiken (nur Qualifizierte)
DESCRIPTION:
URL:https://feldschuetzen-dintikon.ch/termin/jj-js-cup-hendschiken-nur-qualifizierte/
CATEGORIES:Jungschützen
END:VEVENT
BEGIN:VEVENT
DTSTART;TZID=Europe/Zurich:20260910T190000
DTEND;TZID=Europe/Zurich:20260910T200000
DTSTAMP:20260421T211753
CREATED:20260305T173300Z
LAST-MODIFIED:20260305T173300Z
UID:994-1789066800-1789070400@feldschuetzen-dintikon.ch
SUMMARY:„Donnschtig-Stich“ Final mit Absenden
DESCRIPTION:
URL:https://feldschuetzen-dintikon.ch/termin/donnschtig-stich-final-mit-absenden/
CATEGORIES:Jahresprogramm Feldschützen
END:VEVENT
BEGIN:VEVENT
DTSTART;VALUE=DATE:20260912
DTEND;VALUE=DATE:20260913
DTSTAMP:20260421T211753
CREATED:20260305T144455Z
LAST-MODIFIED:20260305T144455Z
UID:801-1789171200-1789257599@feldschuetzen-dintikon.ch
SUMMARY:U15 & JJ Kant. Einzelfinal; Bezirk Zofingen (nur Qualifizierte)
DESCRIPTION:
URL:https://feldschuetzen-dintikon.ch/termin/u15-bezirk-zofingen-nur-qualifizierte/
CATEGORIES:Jungschützen
END:VEVENT
END:VCALENDAR